BEGIN:VCALENDAR
PRODID:-//Pixl8//Eventfolio//EN
VERSION:2.0
X-WR-TIMEZONE:Europe/London
CALSCALE:GREGORIAN
METHOD:PUBLISH
CLASS:PUBLIC
BEGIN:VTIMEZONE
TZID:Europe/London
LAST-MODIFIED:20260306T231828Z
TZURL:https://www.tzurl.org/zoneinfo-outlook/Europe/London
X-LIC-LOCATION:Europe/London
BEGIN:DAYLIGHT
TZNAME:BST
TZOFFSETFROM:+0000
TZOFFSETTO:+0100
DTSTART:19700329T010000
RRULE:FREQ=YEARLY;BYMONTH=3;BYDAY=-1SU
END:DAYLIGHT
BEGIN:STANDARD
TZNAME:GMT
TZOFFSETFROM:+0100
TZOFFSETTO:+0000
DTSTART:19701025T020000
RRULE:FREQ=YEARLY;BYMONTH=10;BYDAY=-1SU
END:STANDARD
END:VTIMEZONE
BEGIN:VEVENT
DTSTART;TZID=Europe/London:20261210T080000
DTEND;TZID=Europe/London:20261211T180000
DTSTAMP:20260421T082344Z
UID:{3522A998-1516-4403-99D95625BD944EAE}
LOCATION:Parc Chanot Palais de l’Europe – Rond-point du Prado 13008 Marseille – FRANCE
SUMMARY:MedFIT
DESCRIPTION:Europe’s leading partnering event for innovation partnerships and investment in medtech, diagnostics and digital health.\n
 \n
 Event details: https://biosolutions.org.uk/ems-event-calendar/medfit.html
PRIORITY:1
END:VEVENT
END:VCALENDAR